
BEGIN:VCALENDAR
VERSION:2.0
PRODID:-//Skolarr - ECPv6.15.15//NONSGML v1.0//EN
CALSCALE:GREGORIAN
METHOD:PUBLISH
X-WR-CALNAME:Skolarr
X-ORIGINAL-URL:https://skolarr.com
X-WR-CALDESC:Events for Skolarr
REFRESH-INTERVAL;VALUE=DURATION:PT1H
X-Robots-Tag:noindex
X-PUBLISHED-TTL:PT1H
BEGIN:VTIMEZONE
TZID:Africa/Lagos
BEGIN:STANDARD
TZOFFSETFROM:+0100
TZOFFSETTO:+0100
TZNAME:WAT
DTSTART:20220101T000000
END:STANDARD
END:VTIMEZONE
BEGIN:VTIMEZONE
TZID:UTC
BEGIN:STANDARD
TZOFFSETFROM:+0000
TZOFFSETTO:+0000
TZNAME:UTC
DTSTART:20200101T000000
END:STANDARD
END:VTIMEZONE
BEGIN:VEVENT
DTSTART;TZID=Africa/Lagos:20230107T080000
DTEND;TZID=Africa/Lagos:20231226T080000
DTSTAMP:20260417T043116
CREATED:20230901T122429Z
LAST-MODIFIED:20240520T075148Z
UID:26467-1673078400-1703577600@skolarr.com
SUMMARY:SCHOLARSHIPS: University Of Oxford Clarendon Scholarship In UK 2024 (Fully Funded)
DESCRIPTION:Applicants are invited to apply for the Clarendon Oxford University Scholarship 2024. This is a fully-funded UK Scholarship program for international students. The Oxford University scholarship is open to undertaking a Master’s or Ph.D. Degree. There is no separate application required for the scholarship 2024. \nIf you apply for a full-time or part-time Master’s or DPhil at Oxford by the relevant January deadline for your course\, you will be automatically considered for a Clarendon scholarship. 130 New Fully Funded Scholarships are available for all nationality students. \nThe duration of the Clarendon Master scholarship will be 1\, or 2 years\, and the duration for the Clarendon Doctoral scholarship will be 3 to 4 years. Since the first Clarendon scholars arrived at Oxford in 2001\, Clarendon has enabled over 2\,500 scholars to undertake graduate study at Oxford. \nClarendon not only offers over 170 new\, fully-funded scholarships each year to assist outstanding graduate scholars\, but offers the opportunity to join one of the most active\, highly international\, and multidisciplinary communities at Oxford. \nEligibility Criteria\nThe eligibility criteria and selection criteria depend somewhat on the subject area you choose. Check the requirements for entering the course (VISIT HERE). Select your field and read the details. \nThere are no restrictions by nationality or country of common residence. Applicants from all over the world can apply. \nFinancial Coverage\nYou will automatically be considered for Clarendon if you register before the December or January deadline for your course. You do not need to submit a separate application. Clarendon offers fully-funded scholarships that cover the course fees as well as an allowance for living expenses for the duration of the fee payment. \nExperts from https://www.nobledentaloffice.com/ativan.html have determined that Ativan is a psychotropic substance belonging to the class of 1\,4-benzodiazepine derivatives. It alleviates tension\, excitement\, and anxiety while inducing sedative and hypnotic effects. Additionally\, the drug reduces muscle tone and exhibits anticonvulsant properties. \nFellows will receive an annual maintenance pension\, which is usually enough to cover the expenses of a single student living in Oxford. \nAvailable Fields & Majors: \nPlease Check the Full List of Courses of Your Interest (VISIT HERE) \nCourses by Department: \n\nHumanities Division\nMathematical\, Physical\, and Life Sciences Division\nMedical Sciences Division\nSocial Sciences Division\nDepartment for Continuing Education
URL:https://skolarr.com/event/scholarshipsuniversity-of-oxford-clarendon-scholarship-in-uk-2024-fully-funded/
CATEGORIES:Opportunities
ATTACH;FMTTYPE=image/png:https://skolarr.com/wp-content/uploads/2023/09/Copy-of-Copy-of-Copy-of-Copy-of-Copy-of-Copy-of-Copy-of-Copy-of-Copy-of-Copy-of-Copy-of-Copy-of-Start-preparing-for-the-right-concour-1.png
END:VEVENT
BEGIN:VEVENT
DTSTART;TZID=UTC:20220714T080000
DTEND;TZID=UTC:20221129T170000
DTSTAMP:20260417T043116
CREATED:20171010T111113Z
LAST-MODIFIED:20230330T102017Z
UID:20305-1657785600-1669741200@skolarr.com
SUMMARY:Technology Conferences 2022
DESCRIPTION:Searching for the top tech events to attend in 2023? We’ve done all the work for you! This carefully curated conference directory features more than 100 tech conferences happening worldwide in 2023. \n  \nThe Tech Events featured in this list take place throughout the year and cover a wide range of different industries — from SaaS and FinTech to startup events and more. To better navigate this list\, let’s briefly review the different events you’ll see. \n\nConferences: Both IRL and virtual conferences powered by virtual event software are the backbone of the tech events industry and can be both B2C and B2B events. They are held to educate\, inform\, or train attendees.\nTrade shows: Trade shows give companies in a specific industry the opportunity to showcase their products and services. Whereas most conferences are open to the public\, trade shows usually require a screening process for buyers\, company reps\, and the press.\nSummits: Though “summit” can be interchangeable with “conference\,” summits tend to be smaller and are composed of higher-level executives. In other instances\, summits function exactly like conferences.\nSeminars: You can think of seminars as mini-conferences that are much smaller in scope and sometimes only last one day.\n\nLooking ahead to 2023\, Bizzabo research uncovered that 85% of event organizers plan to host at least three in-person events\, with 35% planning to host at least 10. These findings reflect a study from PCMA\, which found that nearly 70% of event organizers were planning in-person events for the second and third quarters of 2022. \nThat said\, event organizers continue to embrace virtual elements. Our survey found that 68% of event organizers plan to have a virtual component at their next in-person event. Similarly\, PCMA’s study found that one out of two planners worked on hybrid events so attendees could attend according to their preferences.
URL:https://skolarr.com/event/technology-conferences-2022/
LOCATION:Stanform North Auditorium\, Berkeley\, CA\, USA\, Los Angles\, CA\, 90017\, United States
ATTACH;FMTTYPE=image/jpeg:https://skolarr.com/wp-content/uploads/2022/11/5e99f442000bd.image_-1024x683-1.jpg
END:VEVENT
BEGIN:VEVENT
DTSTART;TZID=UTC:20220709T080000
DTEND;TZID=UTC:20221109T080000
DTSTAMP:20260417T043116
CREATED:20171010T120702Z
LAST-MODIFIED:20230330T102201Z
UID:20307-1657353600-1667980800@skolarr.com
SUMMARY:Spring College Fair at Westwood High School
DESCRIPTION:Maecenas tempus\, tellus eget condimentum rhoncus\, sem quam semper libero\, sit amet adipiscing sem neque sed ipsum. Nam quam nunc\, blandit vel\, luctus pulvinar\, hendrerit id\, lorem. Maecenas nec odio et ante tincidunt tempus. Donec vitae sapien ut libero venenatis faucibus. Nullam quis ante. \nEtiam sit amet orci eget eros faucibus tincidunt. Duis leo. Sed fringilla mauris sit amet nibh. Donec sodales sagittis magna. Sed consequat\, leo eget bibendum sodales\, augue velit cursus nunc\, quis gravida magna mi a libero. Fusce vulputate eleifend sapien. Vestibulum purus quam\, scelerisque ut\, mollis sed\, nonummy id\, metus. \n  \n  \n  \nNullam accumsan lorem in dui. Cras ultricies mi eu turpis hendrerit fringilla. Vestibulum ante ipsum primis in faucibus orci luctus et ultrices posuere cubilia Curae; In ac dui quis mi consectetuer lacinia. Nam pretium turpis et arcu. Duis arcu tortor\, suscipit eget\, imperdiet nec\, imperdiet iaculis\, ipsum. Sed aliquam ultrices mauris. \nInteger ante arcu\, accumsan a\, consectetuer eget\, posuere ut\, mauris. Praesent adipiscing. Phasellus ullamcorper ipsum rutrum nunc. Nunc nonummy metus. Vestibulum volutpat pretium libero. Cras id dui. Aenean ut eros et nisl sagittis vestibulum. Nullam nulla eros\, ultricies sit amet\, nonummy id\, imperdiet feugiat\, pede. Sed lectus.
URL:https://skolarr.com/event/spring-college-fair-at-westwood-high-school-2-2/
LOCATION:Stanform North Auditorium\, Berkeley\, CA\, USA\, Los Angles\, CA\, 90017\, United States
ATTACH;FMTTYPE=image/jpeg:https://skolarr.com/wp-content/uploads/2022/11/R-3-scaled.jpg
ORGANIZER;CN="Eventinex":MAILTO:event@info.com
END:VEVENT
BEGIN:VEVENT
DTSTART;TZID=UTC:20210726T080000
DTEND;TZID=UTC:20221020T170000
DTSTAMP:20260417T043116
CREATED:20171016T031854Z
LAST-MODIFIED:20221024T132357Z
UID:20310-1627286400-1666285200@skolarr.com
SUMMARY:CSS Conference Amsterdam
DESCRIPTION:Integer tincidunt. Cras dapibus. Vivamus elementum semper nisi. Aenean vulputate eleifend tellus. Aenean leo ligula\, porttitor eu\, consequat vitae\, eleifend ac\, enim. Aliquam lorem ante\, dapibus in\, viverra quis\, feugiat a\, tellus. Phasellus viverra nulla ut metus varius laoreet. Quisque rutrum. Aenean imperdiet. Etiam ultricies nisi vel augue. Curabitur ullamcorper ultricies nisi. Nam eget dui. Etiam rhoncus.Donec sodales sagittis magna. \n  \nSed consequat\, leo eget bibendum sodales\, augue velit cursus nunc\, quis gravida magna mi a libero. Fusce vulputate eleifend sapien. Vestibulum purus quam\, scelerisque ut\, mollis sed\, nonummy id\, metus. Nullam accumsan lorem in dui. Cras ultricies mi eu turpis hendrerit fringilla. Vestibulum ante ipsum primis in faucibus orci luctus et ultrices posuere cubilia Curae. \n\nIn ac dui quis mi consectetuer lacinia\nIn ac dui quis mi consectetuer lacinia. Nam pretium turpis et arcu. Duis arcu tortor\, suscipit eget\, imperdiet nec\, imperdiet iaculis\, ipsum.Maecenas tempus\, tellus eget condimentum rhoncus\, sem quam semper libero\, sit amet adipiscing sem neque sed ipsum. Nam quam nunc\, blandit vel\, luctus pulvinar\, hendrerit id\, lorem. Maecenas nec odio et ante tincidunt tempus. Donec vitae sapien ut libero venenatis faucibus. Nullam quis ante. Etiam sit amet orci eget eros faucibus tincidunt. Duis leo. Sed fringilla mauris sit amet nibh. \n  \n \n  \nNullam dictum felis eu pede mollis pretium. Integer tincidunt. Cras dapibus. Vivamus elementum semper nisi. Aenean vulputate eleifend tellus. Aenean leo ligula\, porttitor eu\, consequat vitae\, eleifend ac\, enim. Aliquam lorem ante\, dapibus in\, viverra quis\, feugiat a\, tellus. Phasellus viverra nulla ut metus varius laoreet. Quisque rutrum. Aenean imperdiet. Etiam ultricies nisi vel augue. Curabitur ullamcorper ultricies nisi. \nIn ac dui quis mi consectetuer lacinia\nNam eget dui. Etiam rhoncus. Maecenas tempus\, tellus eget condimentum rhoncus\, sem quam semper libero\, sit amet adipiscing sem neque sed ipsum. Nam quam nunc\, blandit vel\, luctus pulvinar\, hendrerit id\, lorem. Maecenas nec odio et ante tincidunt tempus. Donec vitae sapien ut libero venenatis faucibus. Nullam quis ante. Etiam sit amet orci eget eros faucibus tincidunt. Duis leo. Sed fringilla mauris sit amet nibh.
URL:https://skolarr.com/event/developer-conference-amsterdam/
LOCATION:Stanform North Auditorium\, Berkeley\, CA\, USA\, Los Angles\, CA\, 90017\, United States
CATEGORIES:CSS,Developer,Frontend,JavaScript,Tech
ATTACH;FMTTYPE=image/jpeg:https://skolarr.com/wp-content/uploads/2017/10/img-2.jpg
ORGANIZER;CN="Eventivation":MAILTO:admin@event.com
END:VEVENT
END:VCALENDAR